BEGIN:VCALENDAR
VERSION:2.0
PRODID:-//Tiki 52 Bar &amp; Grill - ECPv6.15.5//NONSGML v1.0//EN
CALSCALE:GREGORIAN
METHOD:PUBLISH
X-WR-CALNAME:Tiki 52 Bar &amp; Grill
X-ORIGINAL-URL:https://tiki52tequesta.com
X-WR-CALDESC:Events for Tiki 52 Bar &amp; Grill
REFRESH-INTERVAL;VALUE=DURATION:PT1H
X-Robots-Tag:noindex
X-PUBLISHED-TTL:PT1H
BEGIN:VTIMEZONE
TZID:UTC
BEGIN:STANDARD
TZOFFSETFROM:+0000
TZOFFSETTO:+0000
TZNAME:UTC
DTSTART:20280101T000000
END:STANDARD
END:VTIMEZONE
BEGIN:VEVENT
DTSTART;VALUE=DATE:20281224
DTEND;VALUE=DATE:20281225
DTSTAMP:20260423T153501
CREATED:20241203T150912Z
LAST-MODIFIED:20251205T025441Z
UID:10003449-1861228800-1861315199@tiki52tequesta.com
SUMMARY:Merry Christmas Eve Tiki52 Is Closed
DESCRIPTION:Have a safe and happy holiday!!\nWe’ll see you soon!!
URL:https://tiki52tequesta.com/event/merry-christmas-eve-tiki52-is-closed/2028-12-24/
CATEGORIES:Closed
ATTACH;FMTTYPE=image/png:https://tiki52tequesta.com/wp-content/uploads/2024/12/Closed-Christmas-Eve.avif
END:VEVENT
END:VCALENDAR