BEGIN:VCALENDAR
VERSION:2.0
PRODID:-//Tiki 52 Bar &amp; Grill - ECPv6.15.5//NONSGML v1.0//EN
CALSCALE:GREGORIAN
METHOD:PUBLISH
X-WR-CALNAME:Tiki 52 Bar &amp; Grill
X-ORIGINAL-URL:https://tiki52tequesta.com
X-WR-CALDESC:Events for Tiki 52 Bar &amp; Grill
REFRESH-INTERVAL;VALUE=DURATION:PT1H
X-Robots-Tag:noindex
X-PUBLISHED-TTL:PT1H
BEGIN:VTIMEZONE
TZID:UTC
BEGIN:STANDARD
TZOFFSETFROM:+0000
TZOFFSETTO:+0000
TZNAME:UTC
DTSTART:20260101T000000
END:STANDARD
END:VTIMEZONE
BEGIN:VEVENT
DTSTART;TZID=UTC:20260402T183000
DTEND;TZID=UTC:20260402T213000
DTSTAMP:20260424T154732
CREATED:20251130T000115Z
LAST-MODIFIED:20260320T064713Z
UID:10003988-1775154600-1775165400@tiki52tequesta.com
SUMMARY:Nico & Marco
DESCRIPTION:
URL:https://tiki52tequesta.com/event/nico-marco/2026-04-02/
CATEGORIES:Live Music
ATTACH;FMTTYPE=image/jpeg:https://tiki52tequesta.com/wp-content/uploads/2025/11/Nico-Marco-e1764460814674.avif
END:VEVENT
END:VCALENDAR