BEGIN:VCALENDAR
VERSION:2.0
PRODID:-//Tiki 52 Bar &amp; Grill - ECPv6.15.5//NONSGML v1.0//EN
CALSCALE:GREGORIAN
METHOD:PUBLISH
X-ORIGINAL-URL:https://tiki52tequesta.com
X-WR-CALDESC:Events for Tiki 52 Bar &amp; Grill
REFRESH-INTERVAL;VALUE=DURATION:PT1H
X-Robots-Tag:noindex
X-PUBLISHED-TTL:PT1H
BEGIN:VTIMEZONE
TZID:UTC
BEGIN:STANDARD
TZOFFSETFROM:+0000
TZOFFSETTO:+0000
TZNAME:UTC
DTSTART:20280101T000000
END:STANDARD
END:VTIMEZONE
BEGIN:VEVENT
DTSTART;TZID=UTC:20280827T160000
DTEND;TZID=UTC:20280827T200000
DTSTAMP:20260420T225026
CREATED:20250408T223743Z
LAST-MODIFIED:20260411T020921Z
UID:10001563-1851004800-1851019200@tiki52tequesta.com
SUMMARY:Anthony James
DESCRIPTION:It wouldn’t be Sunday Funday if we didn’t have the one and only ANTHONY JAMES rockin the tiki all night!! Stop by and check this awesome musician out!
URL:https://tiki52tequesta.com/event/anthony-james-2/2028-08-27/
CATEGORIES:Live Music
ATTACH;FMTTYPE=image/jpeg:https://tiki52tequesta.com/wp-content/uploads/2024/08/Anthony-James-1-e1744151827797.avif
END:VEVENT
BEGIN:VEVENT
DTSTART;VALUE=DATE:20280829
DTEND;VALUE=DATE:20280830
DTSTAMP:20260420T225026
CREATED:20240731T200435Z
LAST-MODIFIED:20260412T025521Z
UID:10000214-1851120000-1851206399@tiki52tequesta.com
SUMMARY:$2 Tuesdays
DESCRIPTION:Enjoy our Tuesday drink specials with the purchase of an appetizer or entrée! \nDrink picture: The Tiki52 Brew; Our house beer is brewed at Sailfish Brewing Company! This Bahamian Papaya Lager is perfect for enjoying by the water!
URL:https://tiki52tequesta.com/event/2-tuesdays/2028-08-29/
ATTACH;FMTTYPE=image/jpeg:https://tiki52tequesta.com/wp-content/uploads/2024/06/grid-9.jpeg
END:VEVENT
BEGIN:VEVENT
DTSTART;TZID=UTC:20280830T190000
DTEND;TZID=UTC:20280830T210000
DTSTAMP:20260420T225026
CREATED:20240827T151524Z
LAST-MODIFIED:20251112T002647Z
UID:10000763-1851274800-1851282000@tiki52tequesta.com
SUMMARY:Think N Drink Trivia
DESCRIPTION:Join us every other Wednesday at Tiki 52 for Trivia Night with Think and Drink Trivia from 7 – 9PM. Beer bucket deals and food specials.\n\nBring your friends\, grab some drinks and play for the opportunity win some awesome prizes!\n\nNo RSVP required\, just sign in with Think and Drink Trivia upon arrival\, prior to the 7PM start time\, see you there
URL:https://tiki52tequesta.com/event/think-n-drink-trivia/2028-08-30/
ATTACH;FMTTYPE=image/jpeg:https://tiki52tequesta.com/wp-content/uploads/2024/08/Think-N-Drink-Trivia-e1733179609946.avif
END:VEVENT
BEGIN:VEVENT
DTSTART;TZID=UTC:20280902T183000
DTEND;TZID=UTC:20280902T223000
DTSTAMP:20260420T225026
CREATED:20260101T222826Z
LAST-MODIFIED:20260411T034121Z
UID:10001293-1851532200-1851546600@tiki52tequesta.com
SUMMARY:Ricky Young
DESCRIPTION:
URL:https://tiki52tequesta.com/event/ricky-young-2-2/2028-09-02/
CATEGORIES:Live Music
ATTACH;FMTTYPE=image/jpeg:https://tiki52tequesta.com/wp-content/uploads/2024/07/event-post.jpg
END:VEVENT
BEGIN:VEVENT
DTSTART;TZID=UTC:20280903T160000
DTEND;TZID=UTC:20280903T200000
DTSTAMP:20260420T225026
CREATED:20250408T223743Z
LAST-MODIFIED:20260411T020921Z
UID:10001564-1851609600-1851624000@tiki52tequesta.com
SUMMARY:Anthony James
DESCRIPTION:It wouldn’t be Sunday Funday if we didn’t have the one and only ANTHONY JAMES rockin the tiki all night!! Stop by and check this awesome musician out!
URL:https://tiki52tequesta.com/event/anthony-james-2/2028-09-03/
CATEGORIES:Live Music
ATTACH;FMTTYPE=image/jpeg:https://tiki52tequesta.com/wp-content/uploads/2024/08/Anthony-James-1-e1744151827797.avif
END:VEVENT
BEGIN:VEVENT
DTSTART;VALUE=DATE:20280905
DTEND;VALUE=DATE:20280906
DTSTAMP:20260420T225026
CREATED:20240731T200435Z
LAST-MODIFIED:20260412T025521Z
UID:10000215-1851724800-1851811199@tiki52tequesta.com
SUMMARY:$2 Tuesdays
DESCRIPTION:Enjoy our Tuesday drink specials with the purchase of an appetizer or entrée! \nDrink picture: The Tiki52 Brew; Our house beer is brewed at Sailfish Brewing Company! This Bahamian Papaya Lager is perfect for enjoying by the water!
URL:https://tiki52tequesta.com/event/2-tuesdays/2028-09-05/
ATTACH;FMTTYPE=image/jpeg:https://tiki52tequesta.com/wp-content/uploads/2024/06/grid-9.jpeg
END:VEVENT
BEGIN:VEVENT
DTSTART;TZID=UTC:20280906T190000
DTEND;TZID=UTC:20280906T210000
DTSTAMP:20260420T225026
CREATED:20241203T141404Z
LAST-MODIFIED:20260211T031727Z
UID:10002340-1851879600-1851886800@tiki52tequesta.com
SUMMARY:Survey Says - Family Feud Style Game
DESCRIPTION:Survey Says\, a Family Feud style game hosted by Think and Drink Trivia is happening tonight!!\nCheck in before the 7PM start time to get everything you need!!\nWe’ll see you there!!
URL:https://tiki52tequesta.com/event/survey-says-family-feud-style-game/2028-09-06/
ATTACH;FMTTYPE=image/jpeg:https://tiki52tequesta.com/wp-content/uploads/2024/12/464264978_1134112848719055_2880066205731744683_n.avif
END:VEVENT
BEGIN:VEVENT
DTSTART;TZID=UTC:20280907T183000
DTEND;TZID=UTC:20280907T213000
DTSTAMP:20260420T225026
CREATED:20260115T224509Z
LAST-MODIFIED:20260411T034324Z
UID:10004250-1851964200-1851975000@tiki52tequesta.com
SUMMARY:Ricky Young
DESCRIPTION:You already know what day it is! Thursday nights with Ricky Young are what it’s all about! This very talented country boy loves to give the crowd a good time! Stop by and see what he’s all about!
URL:https://tiki52tequesta.com/event/ricky-young-3-2/2028-09-07/
CATEGORIES:Live Music
ATTACH;FMTTYPE=image/png:https://tiki52tequesta.com/wp-content/uploads/2024/08/ricky-young-1.png
END:VEVENT
BEGIN:VEVENT
DTSTART;TZID=UTC:20280910T160000
DTEND;TZID=UTC:20280910T200000
DTSTAMP:20260420T225026
CREATED:20250408T223743Z
LAST-MODIFIED:20260411T020921Z
UID:10001565-1852214400-1852228800@tiki52tequesta.com
SUMMARY:Anthony James
DESCRIPTION:It wouldn’t be Sunday Funday if we didn’t have the one and only ANTHONY JAMES rockin the tiki all night!! Stop by and check this awesome musician out!
URL:https://tiki52tequesta.com/event/anthony-james-2/2028-09-10/
CATEGORIES:Live Music
ATTACH;FMTTYPE=image/jpeg:https://tiki52tequesta.com/wp-content/uploads/2024/08/Anthony-James-1-e1744151827797.avif
END:VEVENT
BEGIN:VEVENT
DTSTART;VALUE=DATE:20280912
DTEND;VALUE=DATE:20280913
DTSTAMP:20260420T225026
CREATED:20240731T200435Z
LAST-MODIFIED:20260412T025521Z
UID:10000216-1852329600-1852415999@tiki52tequesta.com
SUMMARY:$2 Tuesdays
DESCRIPTION:Enjoy our Tuesday drink specials with the purchase of an appetizer or entrée! \nDrink picture: The Tiki52 Brew; Our house beer is brewed at Sailfish Brewing Company! This Bahamian Papaya Lager is perfect for enjoying by the water!
URL:https://tiki52tequesta.com/event/2-tuesdays/2028-09-12/
ATTACH;FMTTYPE=image/jpeg:https://tiki52tequesta.com/wp-content/uploads/2024/06/grid-9.jpeg
END:VEVENT
BEGIN:VEVENT
DTSTART;TZID=UTC:20280913T190000
DTEND;TZID=UTC:20280913T210000
DTSTAMP:20260420T225026
CREATED:20240827T151524Z
LAST-MODIFIED:20251112T002647Z
UID:10000764-1852484400-1852491600@tiki52tequesta.com
SUMMARY:Think N Drink Trivia
DESCRIPTION:Join us every other Wednesday at Tiki 52 for Trivia Night with Think and Drink Trivia from 7 – 9PM. Beer bucket deals and food specials.\n\nBring your friends\, grab some drinks and play for the opportunity win some awesome prizes!\n\nNo RSVP required\, just sign in with Think and Drink Trivia upon arrival\, prior to the 7PM start time\, see you there
URL:https://tiki52tequesta.com/event/think-n-drink-trivia/2028-09-13/
ATTACH;FMTTYPE=image/jpeg:https://tiki52tequesta.com/wp-content/uploads/2024/08/Think-N-Drink-Trivia-e1733179609946.avif
END:VEVENT
BEGIN:VEVENT
DTSTART;TZID=UTC:20280916T130000
DTEND;TZID=UTC:20280916T170000
DTSTAMP:20260420T225026
CREATED:20241203T153546Z
LAST-MODIFIED:20260322T225313Z
UID:10004409-1852722000-1852736400@tiki52tequesta.com
SUMMARY:Victoria Cardona
DESCRIPTION:South Florida native Victoria Cardona is a guitarist\, vocalist and multi-instrumentalist\, one-woman jam band. Her loop performances are a sonic and visual experience that take the audience on a ride through the mind of an improvisationalist.\nCheck her out at\nhttps://inkmite.wixsite.com/victoria
URL:https://tiki52tequesta.com/event/victoria-cardona/2028-09-16/
CATEGORIES:Live Music
ATTACH;FMTTYPE=image/jpeg:https://tiki52tequesta.com/wp-content/uploads/2024/12/465176934_1141723801291293_8072511223950790452_n.avif
END:VEVENT
BEGIN:VEVENT
DTSTART;TZID=UTC:20280916T183000
DTEND;TZID=UTC:20280916T223000
DTSTAMP:20260420T225026
CREATED:20260101T222826Z
LAST-MODIFIED:20260411T034121Z
UID:10001295-1852741800-1852756200@tiki52tequesta.com
SUMMARY:Ricky Young
DESCRIPTION:
URL:https://tiki52tequesta.com/event/ricky-young-2-2/2028-09-16/
CATEGORIES:Live Music
ATTACH;FMTTYPE=image/jpeg:https://tiki52tequesta.com/wp-content/uploads/2024/07/event-post.jpg
END:VEVENT
BEGIN:VEVENT
DTSTART;TZID=UTC:20280917T160000
DTEND;TZID=UTC:20280917T200000
DTSTAMP:20260420T225026
CREATED:20250408T223743Z
LAST-MODIFIED:20260411T020921Z
UID:10001566-1852819200-1852833600@tiki52tequesta.com
SUMMARY:Anthony James
DESCRIPTION:It wouldn’t be Sunday Funday if we didn’t have the one and only ANTHONY JAMES rockin the tiki all night!! Stop by and check this awesome musician out!
URL:https://tiki52tequesta.com/event/anthony-james-2/2028-09-17/
CATEGORIES:Live Music
ATTACH;FMTTYPE=image/jpeg:https://tiki52tequesta.com/wp-content/uploads/2024/08/Anthony-James-1-e1744151827797.avif
END:VEVENT
BEGIN:VEVENT
DTSTART;VALUE=DATE:20280919
DTEND;VALUE=DATE:20280920
DTSTAMP:20260420T225026
CREATED:20240731T200435Z
LAST-MODIFIED:20260412T025521Z
UID:10000217-1852934400-1853020799@tiki52tequesta.com
SUMMARY:$2 Tuesdays
DESCRIPTION:Enjoy our Tuesday drink specials with the purchase of an appetizer or entrée! \nDrink picture: The Tiki52 Brew; Our house beer is brewed at Sailfish Brewing Company! This Bahamian Papaya Lager is perfect for enjoying by the water!
URL:https://tiki52tequesta.com/event/2-tuesdays/2028-09-19/
ATTACH;FMTTYPE=image/jpeg:https://tiki52tequesta.com/wp-content/uploads/2024/06/grid-9.jpeg
END:VEVENT
BEGIN:VEVENT
DTSTART;TZID=UTC:20280920T190000
DTEND;TZID=UTC:20280920T210000
DTSTAMP:20260420T225026
CREATED:20241203T141404Z
LAST-MODIFIED:20260211T031727Z
UID:10002341-1853089200-1853096400@tiki52tequesta.com
SUMMARY:Survey Says - Family Feud Style Game
DESCRIPTION:Survey Says\, a Family Feud style game hosted by Think and Drink Trivia is happening tonight!!\nCheck in before the 7PM start time to get everything you need!!\nWe’ll see you there!!
URL:https://tiki52tequesta.com/event/survey-says-family-feud-style-game/2028-09-20/
ATTACH;FMTTYPE=image/jpeg:https://tiki52tequesta.com/wp-content/uploads/2024/12/464264978_1134112848719055_2880066205731744683_n.avif
END:VEVENT
BEGIN:VEVENT
DTSTART;TZID=UTC:20280921T183000
DTEND;TZID=UTC:20280921T213000
DTSTAMP:20260420T225026
CREATED:20260115T224509Z
LAST-MODIFIED:20260411T034324Z
UID:10004251-1853173800-1853184600@tiki52tequesta.com
SUMMARY:Ricky Young
DESCRIPTION:You already know what day it is! Thursday nights with Ricky Young are what it’s all about! This very talented country boy loves to give the crowd a good time! Stop by and see what he’s all about!
URL:https://tiki52tequesta.com/event/ricky-young-3-2/2028-09-21/
CATEGORIES:Live Music
ATTACH;FMTTYPE=image/png:https://tiki52tequesta.com/wp-content/uploads/2024/08/ricky-young-1.png
END:VEVENT
BEGIN:VEVENT
DTSTART;TZID=UTC:20280924T120000
DTEND;TZID=UTC:20280924T150000
DTSTAMP:20260420T225026
CREATED:20240827T174241Z
LAST-MODIFIED:20260114T034152Z
UID:10004483-1853409600-1853420400@tiki52tequesta.com
SUMMARY:Gratitude Steel Band
DESCRIPTION:Happy Sunday Funday!\nCheck out The Gratitude Steel Duo bringing in all the Sunday vibes!!\nFounded in 1988\, The Gratitude Steel Band has been dedicated to providing quality performing arts and education for the improvement of relations all people!!\nOffering a wide range of styles in music such as Reggae\, Soca\, Calypso\, Latin\, Pop\, Jazz\, Hawaiian\, African\, Gospelypso and Classical Music Styles. Relating to all ages\, we bring the energy of gratitude!\nCheck them out at\nhttps://gratitudesteelband.com
URL:https://tiki52tequesta.com/event/gratitude-steel-holiday-duo/2028-09-24/
CATEGORIES:Live Music
ATTACH;FMTTYPE=image/jpeg:https://tiki52tequesta.com/wp-content/uploads/2024/08/465218885_1141727111290962_7285327256172850707_n.avif
END:VEVENT
BEGIN:VEVENT
DTSTART;TZID=UTC:20280924T160000
DTEND;TZID=UTC:20280924T200000
DTSTAMP:20260420T225026
CREATED:20250408T223743Z
LAST-MODIFIED:20260411T020921Z
UID:10001567-1853424000-1853438400@tiki52tequesta.com
SUMMARY:Anthony James
DESCRIPTION:It wouldn’t be Sunday Funday if we didn’t have the one and only ANTHONY JAMES rockin the tiki all night!! Stop by and check this awesome musician out!
URL:https://tiki52tequesta.com/event/anthony-james-2/2028-09-24/
CATEGORIES:Live Music
ATTACH;FMTTYPE=image/jpeg:https://tiki52tequesta.com/wp-content/uploads/2024/08/Anthony-James-1-e1744151827797.avif
END:VEVENT
BEGIN:VEVENT
DTSTART;VALUE=DATE:20280926
DTEND;VALUE=DATE:20280927
DTSTAMP:20260420T225026
CREATED:20240731T200435Z
LAST-MODIFIED:20260412T025521Z
UID:10000218-1853539200-1853625599@tiki52tequesta.com
SUMMARY:$2 Tuesdays
DESCRIPTION:Enjoy our Tuesday drink specials with the purchase of an appetizer or entrée! \nDrink picture: The Tiki52 Brew; Our house beer is brewed at Sailfish Brewing Company! This Bahamian Papaya Lager is perfect for enjoying by the water!
URL:https://tiki52tequesta.com/event/2-tuesdays/2028-09-26/
ATTACH;FMTTYPE=image/jpeg:https://tiki52tequesta.com/wp-content/uploads/2024/06/grid-9.jpeg
END:VEVENT
BEGIN:VEVENT
DTSTART;TZID=UTC:20280927T190000
DTEND;TZID=UTC:20280927T210000
DTSTAMP:20260420T225026
CREATED:20240827T151524Z
LAST-MODIFIED:20251112T002647Z
UID:10000765-1853694000-1853701200@tiki52tequesta.com
SUMMARY:Think N Drink Trivia
DESCRIPTION:Join us every other Wednesday at Tiki 52 for Trivia Night with Think and Drink Trivia from 7 – 9PM. Beer bucket deals and food specials.\n\nBring your friends\, grab some drinks and play for the opportunity win some awesome prizes!\n\nNo RSVP required\, just sign in with Think and Drink Trivia upon arrival\, prior to the 7PM start time\, see you there
URL:https://tiki52tequesta.com/event/think-n-drink-trivia/2028-09-27/
ATTACH;FMTTYPE=image/jpeg:https://tiki52tequesta.com/wp-content/uploads/2024/08/Think-N-Drink-Trivia-e1733179609946.avif
END:VEVENT
BEGIN:VEVENT
DTSTART;TZID=UTC:20280930T183000
DTEND;TZID=UTC:20280930T223000
DTSTAMP:20260420T225026
CREATED:20260101T222826Z
LAST-MODIFIED:20260411T034121Z
UID:10001297-1853951400-1853965800@tiki52tequesta.com
SUMMARY:Ricky Young
DESCRIPTION:
URL:https://tiki52tequesta.com/event/ricky-young-2-2/2028-09-30/
CATEGORIES:Live Music
ATTACH;FMTTYPE=image/jpeg:https://tiki52tequesta.com/wp-content/uploads/2024/07/event-post.jpg
END:VEVENT
BEGIN:VEVENT
DTSTART;TZID=UTC:20281001T160000
DTEND;TZID=UTC:20281001T200000
DTSTAMP:20260420T225026
CREATED:20250408T223743Z
LAST-MODIFIED:20260411T020921Z
UID:10001568-1854028800-1854043200@tiki52tequesta.com
SUMMARY:Anthony James
DESCRIPTION:It wouldn’t be Sunday Funday if we didn’t have the one and only ANTHONY JAMES rockin the tiki all night!! Stop by and check this awesome musician out!
URL:https://tiki52tequesta.com/event/anthony-james-2/2028-10-01/
CATEGORIES:Live Music
ATTACH;FMTTYPE=image/jpeg:https://tiki52tequesta.com/wp-content/uploads/2024/08/Anthony-James-1-e1744151827797.avif
END:VEVENT
BEGIN:VEVENT
DTSTART;VALUE=DATE:20281003
DTEND;VALUE=DATE:20281004
DTSTAMP:20260420T225026
CREATED:20240731T200435Z
LAST-MODIFIED:20260412T025521Z
UID:10000219-1854144000-1854230399@tiki52tequesta.com
SUMMARY:$2 Tuesdays
DESCRIPTION:Enjoy our Tuesday drink specials with the purchase of an appetizer or entrée! \nDrink picture: The Tiki52 Brew; Our house beer is brewed at Sailfish Brewing Company! This Bahamian Papaya Lager is perfect for enjoying by the water!
URL:https://tiki52tequesta.com/event/2-tuesdays/2028-10-03/
ATTACH;FMTTYPE=image/jpeg:https://tiki52tequesta.com/wp-content/uploads/2024/06/grid-9.jpeg
END:VEVENT
BEGIN:VEVENT
DTSTART;TZID=UTC:20281004T190000
DTEND;TZID=UTC:20281004T210000
DTSTAMP:20260420T225026
CREATED:20241203T141404Z
LAST-MODIFIED:20260211T031727Z
UID:10002342-1854298800-1854306000@tiki52tequesta.com
SUMMARY:Survey Says - Family Feud Style Game
DESCRIPTION:Survey Says\, a Family Feud style game hosted by Think and Drink Trivia is happening tonight!!\nCheck in before the 7PM start time to get everything you need!!\nWe’ll see you there!!
URL:https://tiki52tequesta.com/event/survey-says-family-feud-style-game/2028-10-04/
ATTACH;FMTTYPE=image/jpeg:https://tiki52tequesta.com/wp-content/uploads/2024/12/464264978_1134112848719055_2880066205731744683_n.avif
END:VEVENT
BEGIN:VEVENT
DTSTART;TZID=UTC:20281005T183000
DTEND;TZID=UTC:20281005T213000
DTSTAMP:20260420T225026
CREATED:20260115T224509Z
LAST-MODIFIED:20260411T034324Z
UID:10004252-1854383400-1854394200@tiki52tequesta.com
SUMMARY:Ricky Young
DESCRIPTION:You already know what day it is! Thursday nights with Ricky Young are what it’s all about! This very talented country boy loves to give the crowd a good time! Stop by and see what he’s all about!
URL:https://tiki52tequesta.com/event/ricky-young-3-2/2028-10-05/
CATEGORIES:Live Music
ATTACH;FMTTYPE=image/png:https://tiki52tequesta.com/wp-content/uploads/2024/08/ricky-young-1.png
END:VEVENT
BEGIN:VEVENT
DTSTART;TZID=UTC:20281008T160000
DTEND;TZID=UTC:20281008T200000
DTSTAMP:20260420T225026
CREATED:20250408T223743Z
LAST-MODIFIED:20260411T020921Z
UID:10001569-1854633600-1854648000@tiki52tequesta.com
SUMMARY:Anthony James
DESCRIPTION:It wouldn’t be Sunday Funday if we didn’t have the one and only ANTHONY JAMES rockin the tiki all night!! Stop by and check this awesome musician out!
URL:https://tiki52tequesta.com/event/anthony-james-2/2028-10-08/
CATEGORIES:Live Music
ATTACH;FMTTYPE=image/jpeg:https://tiki52tequesta.com/wp-content/uploads/2024/08/Anthony-James-1-e1744151827797.avif
END:VEVENT
BEGIN:VEVENT
DTSTART;VALUE=DATE:20281010
DTEND;VALUE=DATE:20281011
DTSTAMP:20260420T225026
CREATED:20240731T200435Z
LAST-MODIFIED:20260412T025521Z
UID:10000220-1854748800-1854835199@tiki52tequesta.com
SUMMARY:$2 Tuesdays
DESCRIPTION:Enjoy our Tuesday drink specials with the purchase of an appetizer or entrée! \nDrink picture: The Tiki52 Brew; Our house beer is brewed at Sailfish Brewing Company! This Bahamian Papaya Lager is perfect for enjoying by the water!
URL:https://tiki52tequesta.com/event/2-tuesdays/2028-10-10/
ATTACH;FMTTYPE=image/jpeg:https://tiki52tequesta.com/wp-content/uploads/2024/06/grid-9.jpeg
END:VEVENT
BEGIN:VEVENT
DTSTART;TZID=UTC:20281011T190000
DTEND;TZID=UTC:20281011T210000
DTSTAMP:20260420T225026
CREATED:20240827T151524Z
LAST-MODIFIED:20251112T002647Z
UID:10000766-1854903600-1854910800@tiki52tequesta.com
SUMMARY:Think N Drink Trivia
DESCRIPTION:Join us every other Wednesday at Tiki 52 for Trivia Night with Think and Drink Trivia from 7 – 9PM. Beer bucket deals and food specials.\n\nBring your friends\, grab some drinks and play for the opportunity win some awesome prizes!\n\nNo RSVP required\, just sign in with Think and Drink Trivia upon arrival\, prior to the 7PM start time\, see you there
URL:https://tiki52tequesta.com/event/think-n-drink-trivia/2028-10-11/
ATTACH;FMTTYPE=image/jpeg:https://tiki52tequesta.com/wp-content/uploads/2024/08/Think-N-Drink-Trivia-e1733179609946.avif
END:VEVENT
BEGIN:VEVENT
DTSTART;TZID=UTC:20281014T183000
DTEND;TZID=UTC:20281014T223000
DTSTAMP:20260420T225026
CREATED:20260101T222826Z
LAST-MODIFIED:20260411T034121Z
UID:10001299-1855161000-1855175400@tiki52tequesta.com
SUMMARY:Ricky Young
DESCRIPTION:
URL:https://tiki52tequesta.com/event/ricky-young-2-2/2028-10-14/
CATEGORIES:Live Music
ATTACH;FMTTYPE=image/jpeg:https://tiki52tequesta.com/wp-content/uploads/2024/07/event-post.jpg
END:VEVENT
END:VCALENDAR