BEGIN:VCALENDAR
VERSION:2.0
PRODID:-//Tiki 52 Bar &amp; Grill - ECPv6.15.5//NONSGML v1.0//EN
CALSCALE:GREGORIAN
METHOD:PUBLISH
X-ORIGINAL-URL:https://tiki52tequesta.com
X-WR-CALDESC:Events for Tiki 52 Bar &amp; Grill
REFRESH-INTERVAL;VALUE=DURATION:PT1H
X-Robots-Tag:noindex
X-PUBLISHED-TTL:PT1H
BEGIN:VTIMEZONE
TZID:UTC
BEGIN:STANDARD
TZOFFSETFROM:+0000
TZOFFSETTO:+0000
TZNAME:UTC
DTSTART:20290101T000000
END:STANDARD
END:VTIMEZONE
BEGIN:VEVENT
DTSTART;TZID=UTC:20290120T120000
DTEND;TZID=UTC:20290120T160000
DTSTAMP:20260423T185053
CREATED:20241203T153546Z
LAST-MODIFIED:20260322T225313Z
UID:10004740-1863604800-1863619200@tiki52tequesta.com
SUMMARY:Victoria Cardona
DESCRIPTION:South Florida native Victoria Cardona is a guitarist\, vocalist and multi-instrumentalist\, one-woman jam band. Her loop performances are a sonic and visual experience that take the audience on a ride through the mind of an improvisationalist.\nCheck her out at\nhttps://inkmite.wixsite.com/victoria
URL:https://tiki52tequesta.com/event/victoria-cardona/2029-01-20/
CATEGORIES:Live Music
ATTACH;FMTTYPE=image/jpeg:https://tiki52tequesta.com/wp-content/uploads/2024/12/465176934_1141723801291293_8072511223950790452_n.avif
END:VEVENT
BEGIN:VEVENT
DTSTART;TZID=UTC:20290120T183000
DTEND;TZID=UTC:20290120T223000
DTSTAMP:20260423T185053
CREATED:20260101T222826Z
LAST-MODIFIED:20260411T034121Z
UID:10001313-1863628200-1863642600@tiki52tequesta.com
SUMMARY:Ricky Young
DESCRIPTION:
URL:https://tiki52tequesta.com/event/ricky-young-2-2/2029-01-20/
CATEGORIES:Live Music
ATTACH;FMTTYPE=image/jpeg:https://tiki52tequesta.com/wp-content/uploads/2024/07/event-post.jpg
END:VEVENT
BEGIN:VEVENT
DTSTART;TZID=UTC:20290121T160000
DTEND;TZID=UTC:20290121T200000
DTSTAMP:20260423T185053
CREATED:20250408T223743Z
LAST-MODIFIED:20260411T020921Z
UID:10001584-1863705600-1863720000@tiki52tequesta.com
SUMMARY:Anthony James
DESCRIPTION:It wouldn’t be Sunday Funday if we didn’t have the one and only ANTHONY JAMES rockin the tiki all night!! Stop by and check this awesome musician out!
URL:https://tiki52tequesta.com/event/anthony-james-2/2029-01-21/
CATEGORIES:Live Music
ATTACH;FMTTYPE=image/jpeg:https://tiki52tequesta.com/wp-content/uploads/2024/08/Anthony-James-1-e1744151827797.avif
END:VEVENT
BEGIN:VEVENT
DTSTART;VALUE=DATE:20290123
DTEND;VALUE=DATE:20290124
DTSTAMP:20260423T185053
CREATED:20240731T200435Z
LAST-MODIFIED:20260412T025521Z
UID:10000235-1863820800-1863907199@tiki52tequesta.com
SUMMARY:$2 Tuesdays
DESCRIPTION:Enjoy our Tuesday drink specials with the purchase of an appetizer or entrée! \nDrink picture: The Tiki52 Brew; Our house beer is brewed at Sailfish Brewing Company! This Bahamian Papaya Lager is perfect for enjoying by the water!
URL:https://tiki52tequesta.com/event/2-tuesdays/2029-01-23/
ATTACH;FMTTYPE=image/jpeg:https://tiki52tequesta.com/wp-content/uploads/2024/06/grid-9.jpeg
END:VEVENT
BEGIN:VEVENT
DTSTART;TZID=UTC:20290124T190000
DTEND;TZID=UTC:20290124T210000
DTSTAMP:20260423T185053
CREATED:20241203T141404Z
LAST-MODIFIED:20260211T031727Z
UID:10002350-1863975600-1863982800@tiki52tequesta.com
SUMMARY:Survey Says - Family Feud Style Game
DESCRIPTION:Survey Says\, a Family Feud style game hosted by Think and Drink Trivia is happening tonight!!\nCheck in before the 7PM start time to get everything you need!!\nWe’ll see you there!!
URL:https://tiki52tequesta.com/event/survey-says-family-feud-style-game/2029-01-24/
ATTACH;FMTTYPE=image/jpeg:https://tiki52tequesta.com/wp-content/uploads/2024/12/464264978_1134112848719055_2880066205731744683_n.avif
END:VEVENT
BEGIN:VEVENT
DTSTART;TZID=UTC:20290125T183000
DTEND;TZID=UTC:20290125T213000
DTSTAMP:20260423T185053
CREATED:20260115T224509Z
LAST-MODIFIED:20260411T034324Z
UID:10004260-1864060200-1864071000@tiki52tequesta.com
SUMMARY:Ricky Young
DESCRIPTION:You already know what day it is! Thursday nights with Ricky Young are what it’s all about! This very talented country boy loves to give the crowd a good time! Stop by and see what he’s all about!
URL:https://tiki52tequesta.com/event/ricky-young-3-2/2029-01-25/
CATEGORIES:Live Music
ATTACH;FMTTYPE=image/png:https://tiki52tequesta.com/wp-content/uploads/2024/08/ricky-young-1.png
END:VEVENT
BEGIN:VEVENT
DTSTART;TZID=UTC:20290128T120000
DTEND;TZID=UTC:20290128T150000
DTSTAMP:20260423T185053
CREATED:20240827T174241Z
LAST-MODIFIED:20260114T034152Z
UID:10004542-1864296000-1864306800@tiki52tequesta.com
SUMMARY:Gratitude Steel Band
DESCRIPTION:Happy Sunday Funday!\nCheck out The Gratitude Steel Duo bringing in all the Sunday vibes!!\nFounded in 1988\, The Gratitude Steel Band has been dedicated to providing quality performing arts and education for the improvement of relations all people!!\nOffering a wide range of styles in music such as Reggae\, Soca\, Calypso\, Latin\, Pop\, Jazz\, Hawaiian\, African\, Gospelypso and Classical Music Styles. Relating to all ages\, we bring the energy of gratitude!\nCheck them out at\nhttps://gratitudesteelband.com
URL:https://tiki52tequesta.com/event/gratitude-steel-holiday-duo/2029-01-28/
CATEGORIES:Live Music
ATTACH;FMTTYPE=image/jpeg:https://tiki52tequesta.com/wp-content/uploads/2024/08/465218885_1141727111290962_7285327256172850707_n.avif
END:VEVENT
BEGIN:VEVENT
DTSTART;TZID=UTC:20290128T160000
DTEND;TZID=UTC:20290128T200000
DTSTAMP:20260423T185053
CREATED:20250408T223743Z
LAST-MODIFIED:20260411T020921Z
UID:10001585-1864310400-1864324800@tiki52tequesta.com
SUMMARY:Anthony James
DESCRIPTION:It wouldn’t be Sunday Funday if we didn’t have the one and only ANTHONY JAMES rockin the tiki all night!! Stop by and check this awesome musician out!
URL:https://tiki52tequesta.com/event/anthony-james-2/2029-01-28/
CATEGORIES:Live Music
ATTACH;FMTTYPE=image/jpeg:https://tiki52tequesta.com/wp-content/uploads/2024/08/Anthony-James-1-e1744151827797.avif
END:VEVENT
BEGIN:VEVENT
DTSTART;VALUE=DATE:20290130
DTEND;VALUE=DATE:20290131
DTSTAMP:20260423T185053
CREATED:20240731T200435Z
LAST-MODIFIED:20260412T025521Z
UID:10000236-1864425600-1864511999@tiki52tequesta.com
SUMMARY:$2 Tuesdays
DESCRIPTION:Enjoy our Tuesday drink specials with the purchase of an appetizer or entrée! \nDrink picture: The Tiki52 Brew; Our house beer is brewed at Sailfish Brewing Company! This Bahamian Papaya Lager is perfect for enjoying by the water!
URL:https://tiki52tequesta.com/event/2-tuesdays/2029-01-30/
ATTACH;FMTTYPE=image/jpeg:https://tiki52tequesta.com/wp-content/uploads/2024/06/grid-9.jpeg
END:VEVENT
BEGIN:VEVENT
DTSTART;TZID=UTC:20290131T190000
DTEND;TZID=UTC:20290131T210000
DTSTAMP:20260423T185053
CREATED:20240827T151524Z
LAST-MODIFIED:20251112T002647Z
UID:10000774-1864580400-1864587600@tiki52tequesta.com
SUMMARY:Think N Drink Trivia
DESCRIPTION:Join us every other Wednesday at Tiki 52 for Trivia Night with Think and Drink Trivia from 7 – 9PM. Beer bucket deals and food specials.\n\nBring your friends\, grab some drinks and play for the opportunity win some awesome prizes!\n\nNo RSVP required\, just sign in with Think and Drink Trivia upon arrival\, prior to the 7PM start time\, see you there
URL:https://tiki52tequesta.com/event/think-n-drink-trivia/2029-01-31/
ATTACH;FMTTYPE=image/jpeg:https://tiki52tequesta.com/wp-content/uploads/2024/08/Think-N-Drink-Trivia-e1733179609946.avif
END:VEVENT
BEGIN:VEVENT
DTSTART;TZID=UTC:20290203T183000
DTEND;TZID=UTC:20290203T223000
DTSTAMP:20260423T185053
CREATED:20260101T222826Z
LAST-MODIFIED:20260411T034121Z
UID:10001315-1864837800-1864852200@tiki52tequesta.com
SUMMARY:Ricky Young
DESCRIPTION:
URL:https://tiki52tequesta.com/event/ricky-young-2-2/2029-02-03/
CATEGORIES:Live Music
ATTACH;FMTTYPE=image/jpeg:https://tiki52tequesta.com/wp-content/uploads/2024/07/event-post.jpg
END:VEVENT
BEGIN:VEVENT
DTSTART;TZID=UTC:20290204T160000
DTEND;TZID=UTC:20290204T200000
DTSTAMP:20260423T185053
CREATED:20250408T223743Z
LAST-MODIFIED:20260411T020921Z
UID:10001586-1864915200-1864929600@tiki52tequesta.com
SUMMARY:Anthony James
DESCRIPTION:It wouldn’t be Sunday Funday if we didn’t have the one and only ANTHONY JAMES rockin the tiki all night!! Stop by and check this awesome musician out!
URL:https://tiki52tequesta.com/event/anthony-james-2/2029-02-04/
CATEGORIES:Live Music
ATTACH;FMTTYPE=image/jpeg:https://tiki52tequesta.com/wp-content/uploads/2024/08/Anthony-James-1-e1744151827797.avif
END:VEVENT
BEGIN:VEVENT
DTSTART;VALUE=DATE:20290206
DTEND;VALUE=DATE:20290207
DTSTAMP:20260423T185053
CREATED:20240731T200435Z
LAST-MODIFIED:20260412T025521Z
UID:10000237-1865030400-1865116799@tiki52tequesta.com
SUMMARY:$2 Tuesdays
DESCRIPTION:Enjoy our Tuesday drink specials with the purchase of an appetizer or entrée! \nDrink picture: The Tiki52 Brew; Our house beer is brewed at Sailfish Brewing Company! This Bahamian Papaya Lager is perfect for enjoying by the water!
URL:https://tiki52tequesta.com/event/2-tuesdays/2029-02-06/
ATTACH;FMTTYPE=image/jpeg:https://tiki52tequesta.com/wp-content/uploads/2024/06/grid-9.jpeg
END:VEVENT
BEGIN:VEVENT
DTSTART;TZID=UTC:20290207T190000
DTEND;TZID=UTC:20290207T210000
DTSTAMP:20260423T185053
CREATED:20241203T141404Z
LAST-MODIFIED:20260211T031727Z
UID:10002351-1865185200-1865192400@tiki52tequesta.com
SUMMARY:Survey Says - Family Feud Style Game
DESCRIPTION:Survey Says\, a Family Feud style game hosted by Think and Drink Trivia is happening tonight!!\nCheck in before the 7PM start time to get everything you need!!\nWe’ll see you there!!
URL:https://tiki52tequesta.com/event/survey-says-family-feud-style-game/2029-02-07/
ATTACH;FMTTYPE=image/jpeg:https://tiki52tequesta.com/wp-content/uploads/2024/12/464264978_1134112848719055_2880066205731744683_n.avif
END:VEVENT
BEGIN:VEVENT
DTSTART;TZID=UTC:20290208T183000
DTEND;TZID=UTC:20290208T213000
DTSTAMP:20260423T185053
CREATED:20260115T224509Z
LAST-MODIFIED:20260411T034324Z
UID:10004261-1865269800-1865280600@tiki52tequesta.com
SUMMARY:Ricky Young
DESCRIPTION:You already know what day it is! Thursday nights with Ricky Young are what it’s all about! This very talented country boy loves to give the crowd a good time! Stop by and see what he’s all about!
URL:https://tiki52tequesta.com/event/ricky-young-3-2/2029-02-08/
CATEGORIES:Live Music
ATTACH;FMTTYPE=image/png:https://tiki52tequesta.com/wp-content/uploads/2024/08/ricky-young-1.png
END:VEVENT
BEGIN:VEVENT
DTSTART;TZID=UTC:20290211T160000
DTEND;TZID=UTC:20290211T200000
DTSTAMP:20260423T185053
CREATED:20250408T223743Z
LAST-MODIFIED:20260411T020921Z
UID:10001587-1865520000-1865534400@tiki52tequesta.com
SUMMARY:Anthony James
DESCRIPTION:It wouldn’t be Sunday Funday if we didn’t have the one and only ANTHONY JAMES rockin the tiki all night!! Stop by and check this awesome musician out!
URL:https://tiki52tequesta.com/event/anthony-james-2/2029-02-11/
CATEGORIES:Live Music
ATTACH;FMTTYPE=image/jpeg:https://tiki52tequesta.com/wp-content/uploads/2024/08/Anthony-James-1-e1744151827797.avif
END:VEVENT
BEGIN:VEVENT
DTSTART;VALUE=DATE:20290213
DTEND;VALUE=DATE:20290214
DTSTAMP:20260423T185053
CREATED:20240731T200435Z
LAST-MODIFIED:20260412T025521Z
UID:10000238-1865635200-1865721599@tiki52tequesta.com
SUMMARY:$2 Tuesdays
DESCRIPTION:Enjoy our Tuesday drink specials with the purchase of an appetizer or entrée! \nDrink picture: The Tiki52 Brew; Our house beer is brewed at Sailfish Brewing Company! This Bahamian Papaya Lager is perfect for enjoying by the water!
URL:https://tiki52tequesta.com/event/2-tuesdays/2029-02-13/
ATTACH;FMTTYPE=image/jpeg:https://tiki52tequesta.com/wp-content/uploads/2024/06/grid-9.jpeg
END:VEVENT
BEGIN:VEVENT
DTSTART;TZID=UTC:20290214T190000
DTEND;TZID=UTC:20290214T210000
DTSTAMP:20260423T185053
CREATED:20240827T151524Z
LAST-MODIFIED:20251112T002647Z
UID:10000775-1865790000-1865797200@tiki52tequesta.com
SUMMARY:Think N Drink Trivia
DESCRIPTION:Join us every other Wednesday at Tiki 52 for Trivia Night with Think and Drink Trivia from 7 – 9PM. Beer bucket deals and food specials.\n\nBring your friends\, grab some drinks and play for the opportunity win some awesome prizes!\n\nNo RSVP required\, just sign in with Think and Drink Trivia upon arrival\, prior to the 7PM start time\, see you there
URL:https://tiki52tequesta.com/event/think-n-drink-trivia/2029-02-14/
ATTACH;FMTTYPE=image/jpeg:https://tiki52tequesta.com/wp-content/uploads/2024/08/Think-N-Drink-Trivia-e1733179609946.avif
END:VEVENT
BEGIN:VEVENT
DTSTART;TZID=UTC:20290217T120000
DTEND;TZID=UTC:20290217T160000
DTSTAMP:20260423T185053
CREATED:20241203T153546Z
LAST-MODIFIED:20260322T225313Z
UID:10004741-1866024000-1866038400@tiki52tequesta.com
SUMMARY:Victoria Cardona
DESCRIPTION:South Florida native Victoria Cardona is a guitarist\, vocalist and multi-instrumentalist\, one-woman jam band. Her loop performances are a sonic and visual experience that take the audience on a ride through the mind of an improvisationalist.\nCheck her out at\nhttps://inkmite.wixsite.com/victoria
URL:https://tiki52tequesta.com/event/victoria-cardona/2029-02-17/
CATEGORIES:Live Music
ATTACH;FMTTYPE=image/jpeg:https://tiki52tequesta.com/wp-content/uploads/2024/12/465176934_1141723801291293_8072511223950790452_n.avif
END:VEVENT
BEGIN:VEVENT
DTSTART;TZID=UTC:20290217T183000
DTEND;TZID=UTC:20290217T223000
DTSTAMP:20260423T185053
CREATED:20260101T222826Z
LAST-MODIFIED:20260411T034121Z
UID:10001317-1866047400-1866061800@tiki52tequesta.com
SUMMARY:Ricky Young
DESCRIPTION:
URL:https://tiki52tequesta.com/event/ricky-young-2-2/2029-02-17/
CATEGORIES:Live Music
ATTACH;FMTTYPE=image/jpeg:https://tiki52tequesta.com/wp-content/uploads/2024/07/event-post.jpg
END:VEVENT
BEGIN:VEVENT
DTSTART;TZID=UTC:20290218T160000
DTEND;TZID=UTC:20290218T200000
DTSTAMP:20260423T185053
CREATED:20250408T223743Z
LAST-MODIFIED:20260411T020921Z
UID:10001588-1866124800-1866139200@tiki52tequesta.com
SUMMARY:Anthony James
DESCRIPTION:It wouldn’t be Sunday Funday if we didn’t have the one and only ANTHONY JAMES rockin the tiki all night!! Stop by and check this awesome musician out!
URL:https://tiki52tequesta.com/event/anthony-james-2/2029-02-18/
CATEGORIES:Live Music
ATTACH;FMTTYPE=image/jpeg:https://tiki52tequesta.com/wp-content/uploads/2024/08/Anthony-James-1-e1744151827797.avif
END:VEVENT
BEGIN:VEVENT
DTSTART;VALUE=DATE:20290220
DTEND;VALUE=DATE:20290221
DTSTAMP:20260423T185053
CREATED:20240731T200435Z
LAST-MODIFIED:20260412T025521Z
UID:10000239-1866240000-1866326399@tiki52tequesta.com
SUMMARY:$2 Tuesdays
DESCRIPTION:Enjoy our Tuesday drink specials with the purchase of an appetizer or entrée! \nDrink picture: The Tiki52 Brew; Our house beer is brewed at Sailfish Brewing Company! This Bahamian Papaya Lager is perfect for enjoying by the water!
URL:https://tiki52tequesta.com/event/2-tuesdays/2029-02-20/
ATTACH;FMTTYPE=image/jpeg:https://tiki52tequesta.com/wp-content/uploads/2024/06/grid-9.jpeg
END:VEVENT
BEGIN:VEVENT
DTSTART;TZID=UTC:20290221T190000
DTEND;TZID=UTC:20290221T210000
DTSTAMP:20260423T185053
CREATED:20241203T141404Z
LAST-MODIFIED:20260211T031727Z
UID:10002352-1866394800-1866402000@tiki52tequesta.com
SUMMARY:Survey Says - Family Feud Style Game
DESCRIPTION:Survey Says\, a Family Feud style game hosted by Think and Drink Trivia is happening tonight!!\nCheck in before the 7PM start time to get everything you need!!\nWe’ll see you there!!
URL:https://tiki52tequesta.com/event/survey-says-family-feud-style-game/2029-02-21/
ATTACH;FMTTYPE=image/jpeg:https://tiki52tequesta.com/wp-content/uploads/2024/12/464264978_1134112848719055_2880066205731744683_n.avif
END:VEVENT
BEGIN:VEVENT
DTSTART;TZID=UTC:20290222T183000
DTEND;TZID=UTC:20290222T213000
DTSTAMP:20260423T185053
CREATED:20260115T224509Z
LAST-MODIFIED:20260411T034324Z
UID:10004262-1866479400-1866490200@tiki52tequesta.com
SUMMARY:Ricky Young
DESCRIPTION:You already know what day it is! Thursday nights with Ricky Young are what it’s all about! This very talented country boy loves to give the crowd a good time! Stop by and see what he’s all about!
URL:https://tiki52tequesta.com/event/ricky-young-3-2/2029-02-22/
CATEGORIES:Live Music
ATTACH;FMTTYPE=image/png:https://tiki52tequesta.com/wp-content/uploads/2024/08/ricky-young-1.png
END:VEVENT
BEGIN:VEVENT
DTSTART;TZID=UTC:20290225T120000
DTEND;TZID=UTC:20290225T150000
DTSTAMP:20260423T185053
CREATED:20240827T174241Z
LAST-MODIFIED:20260114T034152Z
UID:10004543-1866715200-1866726000@tiki52tequesta.com
SUMMARY:Gratitude Steel Band
DESCRIPTION:Happy Sunday Funday!\nCheck out The Gratitude Steel Duo bringing in all the Sunday vibes!!\nFounded in 1988\, The Gratitude Steel Band has been dedicated to providing quality performing arts and education for the improvement of relations all people!!\nOffering a wide range of styles in music such as Reggae\, Soca\, Calypso\, Latin\, Pop\, Jazz\, Hawaiian\, African\, Gospelypso and Classical Music Styles. Relating to all ages\, we bring the energy of gratitude!\nCheck them out at\nhttps://gratitudesteelband.com
URL:https://tiki52tequesta.com/event/gratitude-steel-holiday-duo/2029-02-25/
CATEGORIES:Live Music
ATTACH;FMTTYPE=image/jpeg:https://tiki52tequesta.com/wp-content/uploads/2024/08/465218885_1141727111290962_7285327256172850707_n.avif
END:VEVENT
BEGIN:VEVENT
DTSTART;TZID=UTC:20290225T160000
DTEND;TZID=UTC:20290225T200000
DTSTAMP:20260423T185053
CREATED:20250408T223743Z
LAST-MODIFIED:20260411T020921Z
UID:10001589-1866729600-1866744000@tiki52tequesta.com
SUMMARY:Anthony James
DESCRIPTION:It wouldn’t be Sunday Funday if we didn’t have the one and only ANTHONY JAMES rockin the tiki all night!! Stop by and check this awesome musician out!
URL:https://tiki52tequesta.com/event/anthony-james-2/2029-02-25/
CATEGORIES:Live Music
ATTACH;FMTTYPE=image/jpeg:https://tiki52tequesta.com/wp-content/uploads/2024/08/Anthony-James-1-e1744151827797.avif
END:VEVENT
BEGIN:VEVENT
DTSTART;VALUE=DATE:20290227
DTEND;VALUE=DATE:20290228
DTSTAMP:20260423T185053
CREATED:20240731T200435Z
LAST-MODIFIED:20260412T025521Z
UID:10000240-1866844800-1866931199@tiki52tequesta.com
SUMMARY:$2 Tuesdays
DESCRIPTION:Enjoy our Tuesday drink specials with the purchase of an appetizer or entrée! \nDrink picture: The Tiki52 Brew; Our house beer is brewed at Sailfish Brewing Company! This Bahamian Papaya Lager is perfect for enjoying by the water!
URL:https://tiki52tequesta.com/event/2-tuesdays/2029-02-27/
ATTACH;FMTTYPE=image/jpeg:https://tiki52tequesta.com/wp-content/uploads/2024/06/grid-9.jpeg
END:VEVENT
BEGIN:VEVENT
DTSTART;TZID=UTC:20290228T190000
DTEND;TZID=UTC:20290228T210000
DTSTAMP:20260423T185053
CREATED:20240827T151524Z
LAST-MODIFIED:20251112T002647Z
UID:10000776-1866999600-1867006800@tiki52tequesta.com
SUMMARY:Think N Drink Trivia
DESCRIPTION:Join us every other Wednesday at Tiki 52 for Trivia Night with Think and Drink Trivia from 7 – 9PM. Beer bucket deals and food specials.\n\nBring your friends\, grab some drinks and play for the opportunity win some awesome prizes!\n\nNo RSVP required\, just sign in with Think and Drink Trivia upon arrival\, prior to the 7PM start time\, see you there
URL:https://tiki52tequesta.com/event/think-n-drink-trivia/2029-02-28/
ATTACH;FMTTYPE=image/jpeg:https://tiki52tequesta.com/wp-content/uploads/2024/08/Think-N-Drink-Trivia-e1733179609946.avif
END:VEVENT
BEGIN:VEVENT
DTSTART;TZID=UTC:20290303T183000
DTEND;TZID=UTC:20290303T223000
DTSTAMP:20260423T185053
CREATED:20260101T222826Z
LAST-MODIFIED:20260411T034121Z
UID:10001319-1867257000-1867271400@tiki52tequesta.com
SUMMARY:Ricky Young
DESCRIPTION:
URL:https://tiki52tequesta.com/event/ricky-young-2-2/2029-03-03/
CATEGORIES:Live Music
ATTACH;FMTTYPE=image/jpeg:https://tiki52tequesta.com/wp-content/uploads/2024/07/event-post.jpg
END:VEVENT
BEGIN:VEVENT
DTSTART;TZID=UTC:20290304T160000
DTEND;TZID=UTC:20290304T200000
DTSTAMP:20260423T185053
CREATED:20250408T223743Z
LAST-MODIFIED:20260411T020921Z
UID:10001590-1867334400-1867348800@tiki52tequesta.com
SUMMARY:Anthony James
DESCRIPTION:It wouldn’t be Sunday Funday if we didn’t have the one and only ANTHONY JAMES rockin the tiki all night!! Stop by and check this awesome musician out!
URL:https://tiki52tequesta.com/event/anthony-james-2/2029-03-04/
CATEGORIES:Live Music
ATTACH;FMTTYPE=image/jpeg:https://tiki52tequesta.com/wp-content/uploads/2024/08/Anthony-James-1-e1744151827797.avif
END:VEVENT
END:VCALENDAR