BEGIN:VCALENDAR
VERSION:2.0
PRODID:-//Tiki 52 Bar &amp; Grill - ECPv6.15.5//NONSGML v1.0//EN
CALSCALE:GREGORIAN
METHOD:PUBLISH
X-WR-CALNAME:Tiki 52 Bar &amp; Grill
X-ORIGINAL-URL:https://tiki52tequesta.com
X-WR-CALDESC:Events for Tiki 52 Bar &amp; Grill
REFRESH-INTERVAL;VALUE=DURATION:PT1H
X-Robots-Tag:noindex
X-PUBLISHED-TTL:PT1H
BEGIN:VTIMEZONE
TZID:UTC
BEGIN:STANDARD
TZOFFSETFROM:+0000
TZOFFSETTO:+0000
TZNAME:UTC
DTSTART:20280101T000000
END:STANDARD
END:VTIMEZONE
BEGIN:VEVENT
DTSTART;TZID=UTC:20280527T183000
DTEND;TZID=UTC:20280527T223000
DTSTAMP:20260420T041519
CREATED:20260101T222826Z
LAST-MODIFIED:20260411T034121Z
UID:10001279-1843065000-1843079400@tiki52tequesta.com
SUMMARY:Ricky Young
DESCRIPTION:
URL:https://tiki52tequesta.com/event/ricky-young-2-2/2028-05-27/
CATEGORIES:Live Music
ATTACH;FMTTYPE=image/jpeg:https://tiki52tequesta.com/wp-content/uploads/2024/07/event-post.jpg
END:VEVENT
BEGIN:VEVENT
DTSTART;TZID=UTC:20280528T120000
DTEND;TZID=UTC:20280528T150000
DTSTAMP:20260420T041519
CREATED:20240827T174241Z
LAST-MODIFIED:20260114T034152Z
UID:10004537-1843128000-1843138800@tiki52tequesta.com
SUMMARY:Gratitude Steel Band
DESCRIPTION:Happy Sunday Funday!\nCheck out The Gratitude Steel Duo bringing in all the Sunday vibes!!\nFounded in 1988\, The Gratitude Steel Band has been dedicated to providing quality performing arts and education for the improvement of relations all people!!\nOffering a wide range of styles in music such as Reggae\, Soca\, Calypso\, Latin\, Pop\, Jazz\, Hawaiian\, African\, Gospelypso and Classical Music Styles. Relating to all ages\, we bring the energy of gratitude!\nCheck them out at\nhttps://gratitudesteelband.com
URL:https://tiki52tequesta.com/event/gratitude-steel-holiday-duo/2028-05-28/
CATEGORIES:Live Music
ATTACH;FMTTYPE=image/jpeg:https://tiki52tequesta.com/wp-content/uploads/2024/08/465218885_1141727111290962_7285327256172850707_n.avif
END:VEVENT
BEGIN:VEVENT
DTSTART;TZID=UTC:20280528T160000
DTEND;TZID=UTC:20280528T200000
DTSTAMP:20260420T041519
CREATED:20250408T223743Z
LAST-MODIFIED:20260411T020921Z
UID:10001550-1843142400-1843156800@tiki52tequesta.com
SUMMARY:Anthony James
DESCRIPTION:It wouldn’t be Sunday Funday if we didn’t have the one and only ANTHONY JAMES rockin the tiki all night!! Stop by and check this awesome musician out!
URL:https://tiki52tequesta.com/event/anthony-james-2/2028-05-28/
CATEGORIES:Live Music
ATTACH;FMTTYPE=image/jpeg:https://tiki52tequesta.com/wp-content/uploads/2024/08/Anthony-James-1-e1744151827797.avif
END:VEVENT
BEGIN:VEVENT
DTSTART;VALUE=DATE:20280530
DTEND;VALUE=DATE:20280531
DTSTAMP:20260420T041519
CREATED:20240731T200435Z
LAST-MODIFIED:20260412T025521Z
UID:10000201-1843257600-1843343999@tiki52tequesta.com
SUMMARY:$2 Tuesdays
DESCRIPTION:Enjoy our Tuesday drink specials with the purchase of an appetizer or entrée! \nDrink picture: The Tiki52 Brew; Our house beer is brewed at Sailfish Brewing Company! This Bahamian Papaya Lager is perfect for enjoying by the water!
URL:https://tiki52tequesta.com/event/2-tuesdays/2028-05-30/
ATTACH;FMTTYPE=image/jpeg:https://tiki52tequesta.com/wp-content/uploads/2024/06/grid-9.jpeg
END:VEVENT
BEGIN:VEVENT
DTSTART;TZID=UTC:20280531T190000
DTEND;TZID=UTC:20280531T210000
DTSTAMP:20260420T041519
CREATED:20241203T141404Z
LAST-MODIFIED:20260211T031727Z
UID:10002333-1843412400-1843419600@tiki52tequesta.com
SUMMARY:Survey Says - Family Feud Style Game
DESCRIPTION:Survey Says\, a Family Feud style game hosted by Think and Drink Trivia is happening tonight!!\nCheck in before the 7PM start time to get everything you need!!\nWe’ll see you there!!
URL:https://tiki52tequesta.com/event/survey-says-family-feud-style-game/2028-05-31/
ATTACH;FMTTYPE=image/jpeg:https://tiki52tequesta.com/wp-content/uploads/2024/12/464264978_1134112848719055_2880066205731744683_n.avif
END:VEVENT
BEGIN:VEVENT
DTSTART;TZID=UTC:20280601T183000
DTEND;TZID=UTC:20280601T213000
DTSTAMP:20260420T041520
CREATED:20260115T224509Z
LAST-MODIFIED:20260411T034324Z
UID:10004243-1843497000-1843507800@tiki52tequesta.com
SUMMARY:Ricky Young
DESCRIPTION:You already know what day it is! Thursday nights with Ricky Young are what it’s all about! This very talented country boy loves to give the crowd a good time! Stop by and see what he’s all about!
URL:https://tiki52tequesta.com/event/ricky-young-3-2/2028-06-01/
CATEGORIES:Live Music
ATTACH;FMTTYPE=image/png:https://tiki52tequesta.com/wp-content/uploads/2024/08/ricky-young-1.png
END:VEVENT
BEGIN:VEVENT
DTSTART;TZID=UTC:20280604T160000
DTEND;TZID=UTC:20280604T200000
DTSTAMP:20260420T041520
CREATED:20250408T223743Z
LAST-MODIFIED:20260411T020921Z
UID:10001551-1843747200-1843761600@tiki52tequesta.com
SUMMARY:Anthony James
DESCRIPTION:It wouldn’t be Sunday Funday if we didn’t have the one and only ANTHONY JAMES rockin the tiki all night!! Stop by and check this awesome musician out!
URL:https://tiki52tequesta.com/event/anthony-james-2/2028-06-04/
CATEGORIES:Live Music
ATTACH;FMTTYPE=image/jpeg:https://tiki52tequesta.com/wp-content/uploads/2024/08/Anthony-James-1-e1744151827797.avif
END:VEVENT
BEGIN:VEVENT
DTSTART;VALUE=DATE:20280606
DTEND;VALUE=DATE:20280607
DTSTAMP:20260420T041520
CREATED:20240731T200435Z
LAST-MODIFIED:20260412T025521Z
UID:10000202-1843862400-1843948799@tiki52tequesta.com
SUMMARY:$2 Tuesdays
DESCRIPTION:Enjoy our Tuesday drink specials with the purchase of an appetizer or entrée! \nDrink picture: The Tiki52 Brew; Our house beer is brewed at Sailfish Brewing Company! This Bahamian Papaya Lager is perfect for enjoying by the water!
URL:https://tiki52tequesta.com/event/2-tuesdays/2028-06-06/
ATTACH;FMTTYPE=image/jpeg:https://tiki52tequesta.com/wp-content/uploads/2024/06/grid-9.jpeg
END:VEVENT
BEGIN:VEVENT
DTSTART;TZID=UTC:20280607T190000
DTEND;TZID=UTC:20280607T210000
DTSTAMP:20260420T041520
CREATED:20240827T151524Z
LAST-MODIFIED:20251112T002647Z
UID:10000757-1844017200-1844024400@tiki52tequesta.com
SUMMARY:Think N Drink Trivia
DESCRIPTION:Join us every other Wednesday at Tiki 52 for Trivia Night with Think and Drink Trivia from 7 – 9PM. Beer bucket deals and food specials.\n\nBring your friends\, grab some drinks and play for the opportunity win some awesome prizes!\n\nNo RSVP required\, just sign in with Think and Drink Trivia upon arrival\, prior to the 7PM start time\, see you there
URL:https://tiki52tequesta.com/event/think-n-drink-trivia/2028-06-07/
ATTACH;FMTTYPE=image/jpeg:https://tiki52tequesta.com/wp-content/uploads/2024/08/Think-N-Drink-Trivia-e1733179609946.avif
END:VEVENT
BEGIN:VEVENT
DTSTART;TZID=UTC:20280610T183000
DTEND;TZID=UTC:20280610T223000
DTSTAMP:20260420T041520
CREATED:20260101T222826Z
LAST-MODIFIED:20260411T034121Z
UID:10001281-1844274600-1844289000@tiki52tequesta.com
SUMMARY:Ricky Young
DESCRIPTION:
URL:https://tiki52tequesta.com/event/ricky-young-2-2/2028-06-10/
CATEGORIES:Live Music
ATTACH;FMTTYPE=image/jpeg:https://tiki52tequesta.com/wp-content/uploads/2024/07/event-post.jpg
END:VEVENT
BEGIN:VEVENT
DTSTART;TZID=UTC:20280611T160000
DTEND;TZID=UTC:20280611T200000
DTSTAMP:20260420T041520
CREATED:20250408T223743Z
LAST-MODIFIED:20260411T020921Z
UID:10001552-1844352000-1844366400@tiki52tequesta.com
SUMMARY:Anthony James
DESCRIPTION:It wouldn’t be Sunday Funday if we didn’t have the one and only ANTHONY JAMES rockin the tiki all night!! Stop by and check this awesome musician out!
URL:https://tiki52tequesta.com/event/anthony-james-2/2028-06-11/
CATEGORIES:Live Music
ATTACH;FMTTYPE=image/jpeg:https://tiki52tequesta.com/wp-content/uploads/2024/08/Anthony-James-1-e1744151827797.avif
END:VEVENT
BEGIN:VEVENT
DTSTART;VALUE=DATE:20280613
DTEND;VALUE=DATE:20280614
DTSTAMP:20260420T041520
CREATED:20240731T200435Z
LAST-MODIFIED:20260412T025521Z
UID:10000203-1844467200-1844553599@tiki52tequesta.com
SUMMARY:$2 Tuesdays
DESCRIPTION:Enjoy our Tuesday drink specials with the purchase of an appetizer or entrée! \nDrink picture: The Tiki52 Brew; Our house beer is brewed at Sailfish Brewing Company! This Bahamian Papaya Lager is perfect for enjoying by the water!
URL:https://tiki52tequesta.com/event/2-tuesdays/2028-06-13/
ATTACH;FMTTYPE=image/jpeg:https://tiki52tequesta.com/wp-content/uploads/2024/06/grid-9.jpeg
END:VEVENT
BEGIN:VEVENT
DTSTART;TZID=UTC:20280614T190000
DTEND;TZID=UTC:20280614T210000
DTSTAMP:20260420T041520
CREATED:20241203T141404Z
LAST-MODIFIED:20260211T031727Z
UID:10002334-1844622000-1844629200@tiki52tequesta.com
SUMMARY:Survey Says - Family Feud Style Game
DESCRIPTION:Survey Says\, a Family Feud style game hosted by Think and Drink Trivia is happening tonight!!\nCheck in before the 7PM start time to get everything you need!!\nWe’ll see you there!!
URL:https://tiki52tequesta.com/event/survey-says-family-feud-style-game/2028-06-14/
ATTACH;FMTTYPE=image/jpeg:https://tiki52tequesta.com/wp-content/uploads/2024/12/464264978_1134112848719055_2880066205731744683_n.avif
END:VEVENT
BEGIN:VEVENT
DTSTART;TZID=UTC:20280615T183000
DTEND;TZID=UTC:20280615T213000
DTSTAMP:20260420T041520
CREATED:20260115T224509Z
LAST-MODIFIED:20260411T034324Z
UID:10004244-1844706600-1844717400@tiki52tequesta.com
SUMMARY:Ricky Young
DESCRIPTION:You already know what day it is! Thursday nights with Ricky Young are what it’s all about! This very talented country boy loves to give the crowd a good time! Stop by and see what he’s all about!
URL:https://tiki52tequesta.com/event/ricky-young-3-2/2028-06-15/
CATEGORIES:Live Music
ATTACH;FMTTYPE=image/png:https://tiki52tequesta.com/wp-content/uploads/2024/08/ricky-young-1.png
END:VEVENT
BEGIN:VEVENT
DTSTART;TZID=UTC:20280617T130000
DTEND;TZID=UTC:20280617T170000
DTSTAMP:20260420T041520
CREATED:20241203T153546Z
LAST-MODIFIED:20260322T225313Z
UID:10004406-1844859600-1844874000@tiki52tequesta.com
SUMMARY:Victoria Cardona
DESCRIPTION:South Florida native Victoria Cardona is a guitarist\, vocalist and multi-instrumentalist\, one-woman jam band. Her loop performances are a sonic and visual experience that take the audience on a ride through the mind of an improvisationalist.\nCheck her out at\nhttps://inkmite.wixsite.com/victoria
URL:https://tiki52tequesta.com/event/victoria-cardona/2028-06-17/
CATEGORIES:Live Music
ATTACH;FMTTYPE=image/jpeg:https://tiki52tequesta.com/wp-content/uploads/2024/12/465176934_1141723801291293_8072511223950790452_n.avif
END:VEVENT
BEGIN:VEVENT
DTSTART;TZID=UTC:20280618T160000
DTEND;TZID=UTC:20280618T200000
DTSTAMP:20260420T041520
CREATED:20250408T223743Z
LAST-MODIFIED:20260411T020921Z
UID:10001553-1844956800-1844971200@tiki52tequesta.com
SUMMARY:Anthony James
DESCRIPTION:It wouldn’t be Sunday Funday if we didn’t have the one and only ANTHONY JAMES rockin the tiki all night!! Stop by and check this awesome musician out!
URL:https://tiki52tequesta.com/event/anthony-james-2/2028-06-18/
CATEGORIES:Live Music
ATTACH;FMTTYPE=image/jpeg:https://tiki52tequesta.com/wp-content/uploads/2024/08/Anthony-James-1-e1744151827797.avif
END:VEVENT
BEGIN:VEVENT
DTSTART;VALUE=DATE:20280620
DTEND;VALUE=DATE:20280621
DTSTAMP:20260420T041520
CREATED:20240731T200435Z
LAST-MODIFIED:20260412T025521Z
UID:10000204-1845072000-1845158399@tiki52tequesta.com
SUMMARY:$2 Tuesdays
DESCRIPTION:Enjoy our Tuesday drink specials with the purchase of an appetizer or entrée! \nDrink picture: The Tiki52 Brew; Our house beer is brewed at Sailfish Brewing Company! This Bahamian Papaya Lager is perfect for enjoying by the water!
URL:https://tiki52tequesta.com/event/2-tuesdays/2028-06-20/
ATTACH;FMTTYPE=image/jpeg:https://tiki52tequesta.com/wp-content/uploads/2024/06/grid-9.jpeg
END:VEVENT
BEGIN:VEVENT
DTSTART;TZID=UTC:20280621T190000
DTEND;TZID=UTC:20280621T210000
DTSTAMP:20260420T041520
CREATED:20240827T151524Z
LAST-MODIFIED:20251112T002647Z
UID:10000758-1845226800-1845234000@tiki52tequesta.com
SUMMARY:Think N Drink Trivia
DESCRIPTION:Join us every other Wednesday at Tiki 52 for Trivia Night with Think and Drink Trivia from 7 – 9PM. Beer bucket deals and food specials.\n\nBring your friends\, grab some drinks and play for the opportunity win some awesome prizes!\n\nNo RSVP required\, just sign in with Think and Drink Trivia upon arrival\, prior to the 7PM start time\, see you there
URL:https://tiki52tequesta.com/event/think-n-drink-trivia/2028-06-21/
ATTACH;FMTTYPE=image/jpeg:https://tiki52tequesta.com/wp-content/uploads/2024/08/Think-N-Drink-Trivia-e1733179609946.avif
END:VEVENT
BEGIN:VEVENT
DTSTART;TZID=UTC:20280624T183000
DTEND;TZID=UTC:20280624T223000
DTSTAMP:20260420T041520
CREATED:20260101T222826Z
LAST-MODIFIED:20260411T034121Z
UID:10001283-1845484200-1845498600@tiki52tequesta.com
SUMMARY:Ricky Young
DESCRIPTION:
URL:https://tiki52tequesta.com/event/ricky-young-2-2/2028-06-24/
CATEGORIES:Live Music
ATTACH;FMTTYPE=image/jpeg:https://tiki52tequesta.com/wp-content/uploads/2024/07/event-post.jpg
END:VEVENT
BEGIN:VEVENT
DTSTART;TZID=UTC:20280625T120000
DTEND;TZID=UTC:20280625T150000
DTSTAMP:20260420T041520
CREATED:20240827T174241Z
LAST-MODIFIED:20260114T034152Z
UID:10004538-1845547200-1845558000@tiki52tequesta.com
SUMMARY:Gratitude Steel Band
DESCRIPTION:Happy Sunday Funday!\nCheck out The Gratitude Steel Duo bringing in all the Sunday vibes!!\nFounded in 1988\, The Gratitude Steel Band has been dedicated to providing quality performing arts and education for the improvement of relations all people!!\nOffering a wide range of styles in music such as Reggae\, Soca\, Calypso\, Latin\, Pop\, Jazz\, Hawaiian\, African\, Gospelypso and Classical Music Styles. Relating to all ages\, we bring the energy of gratitude!\nCheck them out at\nhttps://gratitudesteelband.com
URL:https://tiki52tequesta.com/event/gratitude-steel-holiday-duo/2028-06-25/
CATEGORIES:Live Music
ATTACH;FMTTYPE=image/jpeg:https://tiki52tequesta.com/wp-content/uploads/2024/08/465218885_1141727111290962_7285327256172850707_n.avif
END:VEVENT
BEGIN:VEVENT
DTSTART;TZID=UTC:20280625T160000
DTEND;TZID=UTC:20280625T200000
DTSTAMP:20260420T041520
CREATED:20250408T223743Z
LAST-MODIFIED:20260411T020921Z
UID:10001554-1845561600-1845576000@tiki52tequesta.com
SUMMARY:Anthony James
DESCRIPTION:It wouldn’t be Sunday Funday if we didn’t have the one and only ANTHONY JAMES rockin the tiki all night!! Stop by and check this awesome musician out!
URL:https://tiki52tequesta.com/event/anthony-james-2/2028-06-25/
CATEGORIES:Live Music
ATTACH;FMTTYPE=image/jpeg:https://tiki52tequesta.com/wp-content/uploads/2024/08/Anthony-James-1-e1744151827797.avif
END:VEVENT
BEGIN:VEVENT
DTSTART;VALUE=DATE:20280627
DTEND;VALUE=DATE:20280628
DTSTAMP:20260420T041520
CREATED:20240731T200435Z
LAST-MODIFIED:20260412T025521Z
UID:10000205-1845676800-1845763199@tiki52tequesta.com
SUMMARY:$2 Tuesdays
DESCRIPTION:Enjoy our Tuesday drink specials with the purchase of an appetizer or entrée! \nDrink picture: The Tiki52 Brew; Our house beer is brewed at Sailfish Brewing Company! This Bahamian Papaya Lager is perfect for enjoying by the water!
URL:https://tiki52tequesta.com/event/2-tuesdays/2028-06-27/
ATTACH;FMTTYPE=image/jpeg:https://tiki52tequesta.com/wp-content/uploads/2024/06/grid-9.jpeg
END:VEVENT
BEGIN:VEVENT
DTSTART;TZID=UTC:20280628T190000
DTEND;TZID=UTC:20280628T210000
DTSTAMP:20260420T041520
CREATED:20241203T141404Z
LAST-MODIFIED:20260211T031727Z
UID:10002335-1845831600-1845838800@tiki52tequesta.com
SUMMARY:Survey Says - Family Feud Style Game
DESCRIPTION:Survey Says\, a Family Feud style game hosted by Think and Drink Trivia is happening tonight!!\nCheck in before the 7PM start time to get everything you need!!\nWe’ll see you there!!
URL:https://tiki52tequesta.com/event/survey-says-family-feud-style-game/2028-06-28/
ATTACH;FMTTYPE=image/jpeg:https://tiki52tequesta.com/wp-content/uploads/2024/12/464264978_1134112848719055_2880066205731744683_n.avif
END:VEVENT
BEGIN:VEVENT
DTSTART;TZID=UTC:20280629T183000
DTEND;TZID=UTC:20280629T213000
DTSTAMP:20260420T041520
CREATED:20260115T224509Z
LAST-MODIFIED:20260411T034324Z
UID:10004245-1845916200-1845927000@tiki52tequesta.com
SUMMARY:Ricky Young
DESCRIPTION:You already know what day it is! Thursday nights with Ricky Young are what it’s all about! This very talented country boy loves to give the crowd a good time! Stop by and see what he’s all about!
URL:https://tiki52tequesta.com/event/ricky-young-3-2/2028-06-29/
CATEGORIES:Live Music
ATTACH;FMTTYPE=image/png:https://tiki52tequesta.com/wp-content/uploads/2024/08/ricky-young-1.png
END:VEVENT
BEGIN:VEVENT
DTSTART;TZID=UTC:20280702T160000
DTEND;TZID=UTC:20280702T200000
DTSTAMP:20260420T041520
CREATED:20250408T223743Z
LAST-MODIFIED:20260411T020921Z
UID:10001555-1846166400-1846180800@tiki52tequesta.com
SUMMARY:Anthony James
DESCRIPTION:It wouldn’t be Sunday Funday if we didn’t have the one and only ANTHONY JAMES rockin the tiki all night!! Stop by and check this awesome musician out!
URL:https://tiki52tequesta.com/event/anthony-james-2/2028-07-02/
CATEGORIES:Live Music
ATTACH;FMTTYPE=image/jpeg:https://tiki52tequesta.com/wp-content/uploads/2024/08/Anthony-James-1-e1744151827797.avif
END:VEVENT
BEGIN:VEVENT
DTSTART;VALUE=DATE:20280704
DTEND;VALUE=DATE:20280705
DTSTAMP:20260420T041520
CREATED:20240731T200435Z
LAST-MODIFIED:20260412T025521Z
UID:10000206-1846281600-1846367999@tiki52tequesta.com
SUMMARY:$2 Tuesdays
DESCRIPTION:Enjoy our Tuesday drink specials with the purchase of an appetizer or entrée! \nDrink picture: The Tiki52 Brew; Our house beer is brewed at Sailfish Brewing Company! This Bahamian Papaya Lager is perfect for enjoying by the water!
URL:https://tiki52tequesta.com/event/2-tuesdays/2028-07-04/
ATTACH;FMTTYPE=image/jpeg:https://tiki52tequesta.com/wp-content/uploads/2024/06/grid-9.jpeg
END:VEVENT
BEGIN:VEVENT
DTSTART;TZID=UTC:20280705T190000
DTEND;TZID=UTC:20280705T210000
DTSTAMP:20260420T041520
CREATED:20240827T151524Z
LAST-MODIFIED:20251112T002647Z
UID:10000759-1846436400-1846443600@tiki52tequesta.com
SUMMARY:Think N Drink Trivia
DESCRIPTION:Join us every other Wednesday at Tiki 52 for Trivia Night with Think and Drink Trivia from 7 – 9PM. Beer bucket deals and food specials.\n\nBring your friends\, grab some drinks and play for the opportunity win some awesome prizes!\n\nNo RSVP required\, just sign in with Think and Drink Trivia upon arrival\, prior to the 7PM start time\, see you there
URL:https://tiki52tequesta.com/event/think-n-drink-trivia/2028-07-05/
ATTACH;FMTTYPE=image/jpeg:https://tiki52tequesta.com/wp-content/uploads/2024/08/Think-N-Drink-Trivia-e1733179609946.avif
END:VEVENT
BEGIN:VEVENT
DTSTART;TZID=UTC:20280708T183000
DTEND;TZID=UTC:20280708T223000
DTSTAMP:20260420T041520
CREATED:20260101T222826Z
LAST-MODIFIED:20260411T034121Z
UID:10001285-1846693800-1846708200@tiki52tequesta.com
SUMMARY:Ricky Young
DESCRIPTION:
URL:https://tiki52tequesta.com/event/ricky-young-2-2/2028-07-08/
CATEGORIES:Live Music
ATTACH;FMTTYPE=image/jpeg:https://tiki52tequesta.com/wp-content/uploads/2024/07/event-post.jpg
END:VEVENT
BEGIN:VEVENT
DTSTART;TZID=UTC:20280709T160000
DTEND;TZID=UTC:20280709T200000
DTSTAMP:20260420T041520
CREATED:20250408T223743Z
LAST-MODIFIED:20260411T020921Z
UID:10001556-1846771200-1846785600@tiki52tequesta.com
SUMMARY:Anthony James
DESCRIPTION:It wouldn’t be Sunday Funday if we didn’t have the one and only ANTHONY JAMES rockin the tiki all night!! Stop by and check this awesome musician out!
URL:https://tiki52tequesta.com/event/anthony-james-2/2028-07-09/
CATEGORIES:Live Music
ATTACH;FMTTYPE=image/jpeg:https://tiki52tequesta.com/wp-content/uploads/2024/08/Anthony-James-1-e1744151827797.avif
END:VEVENT
BEGIN:VEVENT
DTSTART;VALUE=DATE:20280711
DTEND;VALUE=DATE:20280712
DTSTAMP:20260420T041520
CREATED:20240731T200435Z
LAST-MODIFIED:20260412T025521Z
UID:10000207-1846886400-1846972799@tiki52tequesta.com
SUMMARY:$2 Tuesdays
DESCRIPTION:Enjoy our Tuesday drink specials with the purchase of an appetizer or entrée! \nDrink picture: The Tiki52 Brew; Our house beer is brewed at Sailfish Brewing Company! This Bahamian Papaya Lager is perfect for enjoying by the water!
URL:https://tiki52tequesta.com/event/2-tuesdays/2028-07-11/
ATTACH;FMTTYPE=image/jpeg:https://tiki52tequesta.com/wp-content/uploads/2024/06/grid-9.jpeg
END:VEVENT
END:VCALENDAR